BEGIN:VCALENDAR
VERSION:2.0
PRODID:-//wp-events-plugin.com//7.2.3.1//EN
TZID:America/New_York
X-WR-TIMEZONE:America/New_York
BEGIN:VEVENT
UID:19@susanonyskophoto.com
DTSTART;TZID=America/New_York;VALUE=DATE:20160104
DTEND;TZID=America/New_York;VALUE=DATE:20160119
DTSTAMP:20151224T220700Z
URL:https://www.susanonyskophoto.com/exhibitions-and-events/archive/romani
 a-2/
SUMMARY:Photo Trek: Romania
DESCRIPTION:
ATTACH;FMTTYPE=image/jpeg:https://www.susanonyskophoto.com/cdn-cgi/image/m
 etadata=copyright,quality=90,f=auto,fit=scale-down,onerror=redirect,width=
 450,height=300/wp-content/uploads/2015/12/450px-Flag_of_Romania.svg_.png
CATEGORIES:Photo Trek
END:VEVENT
BEGIN:VTIMEZONE
TZID:America/New_York
X-LIC-LOCATION:America/New_York
BEGIN:STANDARD
DTSTART:20151101T010000
TZOFFSETFROM:-0400
TZOFFSETTO:-0500
TZNAME:EST
END:STANDARD
END:VTIMEZONE
END:VCALENDAR