BEGIN:VCALENDAR
VERSION:2.0
PRODID:-//wp-events-plugin.com//7.2.3.1//EN
TZID:America/New_York
X-WR-TIMEZONE:America/New_York
BEGIN:VEVENT
UID:119@susanonyskophoto.com
DTSTART;TZID=America/New_York;VALUE=DATE:20211206
DTEND;TZID=America/New_York;VALUE=DATE:20211212
DTSTAMP:20201111T020247Z
URL:https://www.susanonyskophoto.com/exhibitions-and-events/archive/bosque
 -del-apache-and-white-sands/
SUMMARY:Bosque Del Apache And White Sands
DESCRIPTION:
ATTACH;FMTTYPE=image/jpeg:
CATEGORIES:Photo Trek
END:VEVENT
BEGIN:VTIMEZONE
TZID:America/New_York
X-LIC-LOCATION:America/New_York
BEGIN:STANDARD
DTSTART:20211107T010000
TZOFFSETFROM:-0400
TZOFFSETTO:-0500
TZNAME:EST
END:STANDARD
END:VTIMEZONE
END:VCALENDAR